BEGIN:VCALENDAR
VERSION:2.0
PRODID:-//ExpressionEngine Easy iCalendar plugin//NONSGML v2.0.1//EN
X-WR-TIMEZONE:America/New_York
X-WR-CALNAME:Upcoming Auctions
BEGIN:VEVENT
UID:116635
DTSTAMP:20240305T162100
DTSTART:20240305T162100
DTEND:20240404T140000
SUMMARY:401 E. Tennessee Avenue\, Bessemer City\, NC-REAL ESTATE
LOCATION:{location}
DESCRIPTION:AUCTION Real Estate – Online Only! Bidding ends Thursday\, 
 April 4th at 2:00pm   VISIT MCLEANBID.COM TO REGISTER AND P
 LACE YOUR BID!   401 E. Tennessee Avenue Bessemer City\, NC 
   3 Bedroom\, 2 bathroom brick home with carport. Approx. 1\,
 200 sq.ft. Large kitchen and living room. Fenced back yard w
 ith storage shed. 0.49 corner acre lot. Minutes to I-85 and 
 Hwy. 74.   Property may be previewed/inspected by contactin
 g the Auctioneer at 704-865-9524.   Terms: $5\,000 deposit i
 s due immediately after confirmation of final bid and the ba
 lance due at closing within 30 days. Property sold in as-is
  condition and is not contingent upon buyer's financing\, con
 dition of property\, appraisal\, inspection\, etc. Property is 
 being sold with owner confirmation. Should the opportunity a
 rise\, the property may also be sold prior to auction date. 
 Auctioneer's Note: All information and dimensions were deri
 ved from sources believed to be correct\, but not guaranteed.
  Buyers shall rely on their own information\, judgment\, and i
 nspection of the property. All auction day announcements tak
 e precedence over any previously printed material or any oth
 er oral statements made.   McLean Auction & Realty 704-865-
 9524 Col. Blake Mclean NCAL 5310 Firm 10073 Willie Sutton NC
 RL 36716
URL:https://www.mcleanbid.com/auctions/detail/bw116635
SEQUENCE:1
END:VEVENT
END:VCALENDAR